BEGIN:VCALENDAR
VERSION:2.0
PRODID:-//Lockport Community Band - ECPv6.15.20//NONSGML v1.0//EN
CALSCALE:GREGORIAN
METHOD:PUBLISH
X-ORIGINAL-URL:https://lockportcommunityband.com
X-WR-CALDESC:Events for Lockport Community Band
REFRESH-INTERVAL;VALUE=DURATION:PT1H
X-Robots-Tag:noindex
X-PUBLISHED-TTL:PT1H
BEGIN:VTIMEZONE
TZID:America/New_York
BEGIN:DAYLIGHT
TZOFFSETFROM:-0500
TZOFFSETTO:-0400
TZNAME:EDT
DTSTART:20250309T070000
END:DAYLIGHT
BEGIN:STANDARD
TZOFFSETFROM:-0400
TZOFFSETTO:-0500
TZNAME:EST
DTSTART:20251102T060000
END:STANDARD
BEGIN:DAYLIGHT
TZOFFSETFROM:-0500
TZOFFSETTO:-0400
TZNAME:EDT
DTSTART:20260308T070000
END:DAYLIGHT
BEGIN:STANDARD
TZOFFSETFROM:-0400
TZOFFSETTO:-0500
TZNAME:EST
DTSTART:20261101T060000
END:STANDARD
BEGIN:DAYLIGHT
TZOFFSETFROM:-0500
TZOFFSETTO:-0400
TZNAME:EDT
DTSTART:20270314T070000
END:DAYLIGHT
BEGIN:STANDARD
TZOFFSETFROM:-0400
TZOFFSETTO:-0500
TZNAME:EST
DTSTART:20271107T060000
END:STANDARD
END:VTIMEZONE
BEGIN:VEVENT
DTSTART;TZID=America/New_York:20260519T183000
DTEND;TZID=America/New_York:20260519T193000
DTSTAMP:20260423T190814
CREATED:20260225T023105Z
LAST-MODIFIED:20260225T023108Z
UID:325-1779215400-1779219000@lockportcommunityband.com
SUMMARY:Akron/Newstead Senior Center Concert
DESCRIPTION:
URL:https://lockportcommunityband.com/event/akron-newstead-senior-center-concert/
LOCATION:Akron/Newstead Senior Center\, 5691 Cummings Rd\, Akron\, New York\, 14001\, United States
END:VEVENT
BEGIN:VEVENT
DTSTART;TZID=America/New_York:20260524T130000
DTEND;TZID=America/New_York:20260524T140000
DTSTAMP:20260423T190814
CREATED:20260411T061804Z
LAST-MODIFIED:20260411T061808Z
UID:342-1779627600-1779631200@lockportcommunityband.com
SUMMARY:Memorial Day Parade
DESCRIPTION:There will be a concert on Canal St afterwards.
URL:https://lockportcommunityband.com/event/memorial-day-parade-3/
LOCATION:East Ave
END:VEVENT
BEGIN:VEVENT
DTSTART;TZID=America/New_York:20260626T190000
DTEND;TZID=America/New_York:20260626T200000
DTSTAMP:20260423T190814
CREATED:20260324T035910Z
LAST-MODIFIED:20260324T035913Z
UID:338-1782500400-1782504000@lockportcommunityband.com
SUMMARY:Movie Night
DESCRIPTION:
URL:https://lockportcommunityband.com/event/movie-night-5/
LOCATION:Day Road Park\, 5098 Day Road\, Lockport\, New York\, 14094
END:VEVENT
BEGIN:VEVENT
DTSTART;TZID=America/New_York:20260701T180000
DTEND;TZID=America/New_York:20260701T190000
DTSTAMP:20260423T190814
CREATED:20260225T023336Z
LAST-MODIFIED:20260225T023340Z
UID:329-1782928800-1782932400@lockportcommunityband.com
SUMMARY:Lockport Library Concert
DESCRIPTION:
URL:https://lockportcommunityband.com/event/lockport-library-concert/
LOCATION:New York
END:VEVENT
BEGIN:VEVENT
DTSTART;TZID=America/New_York:20260724T190000
DTEND;TZID=America/New_York:20260724T200000
DTSTAMP:20260423T190814
CREATED:20260324T040046Z
LAST-MODIFIED:20260324T040050Z
UID:340-1784919600-1784923200@lockportcommunityband.com
SUMMARY:Movie Night
DESCRIPTION:This date is tentative.
URL:https://lockportcommunityband.com/event/movie-night-6/
LOCATION:Day Road Park\, 5098 Day Road\, Lockport\, New York\, 14094
END:VEVENT
BEGIN:VEVENT
DTSTART;TZID=America/New_York:20260801T120000
DTEND;TZID=America/New_York:20260801T130000
DTSTAMP:20260423T190814
CREATED:20260225T023858Z
LAST-MODIFIED:20260225T023901Z
UID:331-1785585600-1785589200@lockportcommunityband.com
SUMMARY:America's 250th at Fort Niagara
DESCRIPTION:Time TBA
URL:https://lockportcommunityband.com/event/americas-250th-at-fort-niagara/
LOCATION:New York
END:VEVENT
BEGIN:VEVENT
DTSTART;TZID=America/New_York:20260810T183000
DTEND;TZID=America/New_York:20260810T193000
DTSTAMP:20260423T190814
CREATED:20260225T023955Z
LAST-MODIFIED:20260225T023957Z
UID:333-1786386600-1786390200@lockportcommunityband.com
SUMMARY:Cruise Night
DESCRIPTION:
URL:https://lockportcommunityband.com/event/cruise-night-4/
LOCATION:Ida Fritz Park\, 105 West Ave\, Lockport\, New York\, 14094
END:VEVENT
BEGIN:VEVENT
DTSTART;TZID=America/New_York:20260811T190000
DTEND;TZID=America/New_York:20260811T200000
DTSTAMP:20260423T190814
CREATED:20260417T013856Z
LAST-MODIFIED:20260417T013900Z
UID:346-1786474800-1786478400@lockportcommunityband.com
SUMMARY:Wilson Historical Society Concert
DESCRIPTION:
URL:https://lockportcommunityband.com/event/wilson-historical-society-concert/
LOCATION:Wilson Historical Society\, 641 Lake St\, Wilson\, New York\, 14172\, United States
END:VEVENT
END:VCALENDAR