BEGIN:VCALENDAR
VERSION:2.0
PRODID:-//Lockport Community Band - ECPv6.15.20//NONSGML v1.0//EN
CALSCALE:GREGORIAN
METHOD:PUBLISH
X-WR-CALNAME:Lockport Community Band
X-ORIGINAL-URL:https://lockportcommunityband.com
X-WR-CALDESC:Events for Lockport Community Band
REFRESH-INTERVAL;VALUE=DURATION:PT1H
X-Robots-Tag:noindex
X-PUBLISHED-TTL:PT1H
BEGIN:VTIMEZONE
TZID:America/New_York
BEGIN:DAYLIGHT
TZOFFSETFROM:-0500
TZOFFSETTO:-0400
TZNAME:EDT
DTSTART:20210314T070000
END:DAYLIGHT
BEGIN:STANDARD
TZOFFSETFROM:-0400
TZOFFSETTO:-0500
TZNAME:EST
DTSTART:20211107T060000
END:STANDARD
BEGIN:DAYLIGHT
TZOFFSETFROM:-0500
TZOFFSETTO:-0400
TZNAME:EDT
DTSTART:20220313T070000
END:DAYLIGHT
BEGIN:STANDARD
TZOFFSETFROM:-0400
TZOFFSETTO:-0500
TZNAME:EST
DTSTART:20221106T060000
END:STANDARD
BEGIN:DAYLIGHT
TZOFFSETFROM:-0500
TZOFFSETTO:-0400
TZNAME:EDT
DTSTART:20230312T070000
END:DAYLIGHT
BEGIN:STANDARD
TZOFFSETFROM:-0400
TZOFFSETTO:-0500
TZNAME:EST
DTSTART:20231105T060000
END:STANDARD
BEGIN:DAYLIGHT
TZOFFSETFROM:-0500
TZOFFSETTO:-0400
TZNAME:EDT
DTSTART:20240310T070000
END:DAYLIGHT
BEGIN:STANDARD
TZOFFSETFROM:-0400
TZOFFSETTO:-0500
TZNAME:EST
DTSTART:20241103T060000
END:STANDARD
BEGIN:DAYLIGHT
TZOFFSETFROM:-0500
TZOFFSETTO:-0400
TZNAME:EDT
DTSTART:20250309T070000
END:DAYLIGHT
BEGIN:STANDARD
TZOFFSETFROM:-0400
TZOFFSETTO:-0500
TZNAME:EST
DTSTART:20251102T060000
END:STANDARD
BEGIN:DAYLIGHT
TZOFFSETFROM:-0500
TZOFFSETTO:-0400
TZNAME:EDT
DTSTART:20260308T070000
END:DAYLIGHT
BEGIN:STANDARD
TZOFFSETFROM:-0400
TZOFFSETTO:-0500
TZNAME:EST
DTSTART:20261101T060000
END:STANDARD
END:VTIMEZONE
BEGIN:VEVENT
DTSTART;TZID=America/New_York:20250614T110000
DTEND;TZID=America/New_York:20250614T120000
DTSTAMP:20260423T125708
CREATED:20250427T032120Z
LAST-MODIFIED:20250427T032122Z
UID:300-1749898800-1749902400@lockportcommunityband.com
SUMMARY:Flag Day
DESCRIPTION:The Elks have requested that we stay for the ceremony.
URL:https://lockportcommunityband.com/event/flag-day-4/
LOCATION:Elks Lodge\, 6791 N Canal Rd\, Lockport\, New York\, 14094\, United States
END:VEVENT
BEGIN:VEVENT
DTSTART;TZID=America/New_York:20250601T120000
DTEND;TZID=America/New_York:20250601T130000
DTSTAMP:20260423T125708
CREATED:20250304T060127Z
LAST-MODIFIED:20250405T152516Z
UID:276-1748779200-1748782800@lockportcommunityband.com
SUMMARY:Bicentennial Concert
DESCRIPTION:
URL:https://lockportcommunityband.com/event/bicentennial-concert/
LOCATION:Gasport Ravine Park\, 4662 Gasport Rd\, Gasport\, New York\, 14067\, United States
END:VEVENT
BEGIN:VEVENT
DTSTART;TZID=America/New_York:20250525T130000
DTEND;TZID=America/New_York:20250525T130000
DTSTAMP:20260423T125708
CREATED:20250304T055538Z
LAST-MODIFIED:20250405T154118Z
UID:274-1748178000-1748178000@lockportcommunityband.com
SUMMARY:Memorial Day Parade
DESCRIPTION:
URL:https://lockportcommunityband.com/event/memorial-day-parade-2/
LOCATION:New York
END:VEVENT
BEGIN:VEVENT
DTSTART;TZID=America/New_York:20241213T190000
DTEND;TZID=America/New_York:20241213T200000
DTSTAMP:20260423T125708
CREATED:20240910T171053Z
LAST-MODIFIED:20240910T171058Z
UID:265-1734116400-1734120000@lockportcommunityband.com
SUMMARY:Christmas Concert
DESCRIPTION:
URL:https://lockportcommunityband.com/event/christmas-concert/
LOCATION:St. John’s Church\, 168 Chestnut St\, Lockport\, New York
END:VEVENT
BEGIN:VEVENT
DTSTART;TZID=America/New_York:20241013T120000
DTEND;TZID=America/New_York:20241013T130000
DTSTAMP:20260423T125708
CREATED:20240818T141345Z
LAST-MODIFIED:20240818T141412Z
UID:239-1728820800-1728824400@lockportcommunityband.com
SUMMARY:Lockport Fall Festival
DESCRIPTION:
URL:https://lockportcommunityband.com/event/lockport-fall-festival/
LOCATION:Lockport Town Hall\, 6560 Dysinger Rd\, Lockport\, New York\, 14094
END:VEVENT
BEGIN:VEVENT
DTSTART;TZID=America/New_York:20241012T140000
DTEND;TZID=America/New_York:20241012T150000
DTSTAMP:20260423T125708
CREATED:20240818T140934Z
LAST-MODIFIED:20240818T141651Z
UID:237-1728741600-1728745200@lockportcommunityband.com
SUMMARY:United Methodist Church Concert
DESCRIPTION:
URL:https://lockportcommunityband.com/event/united-methodist-church/
LOCATION:North Ridge United Methodist Church\, 3930 N Ridge Rd\, Lockport\, New York\, 14094
END:VEVENT
BEGIN:VEVENT
DTSTART;TZID=America/New_York:20240928T190000
DTEND;TZID=America/New_York:20240928T200000
DTSTAMP:20260423T125708
CREATED:20240822T014713Z
LAST-MODIFIED:20240822T015356Z
UID:246-1727550000-1727553600@lockportcommunityband.com
SUMMARY:SUNY Niagara Concert
DESCRIPTION:
URL:https://lockportcommunityband.com/event/suny-niagara-concert/
LOCATION:SUNY Niagara\, 3111 Saunders Settlement Rd (Building F)\, Sanborn\, New York\, 14132
END:VEVENT
BEGIN:VEVENT
DTSTART;TZID=America/New_York:20240824T150000
DTEND;TZID=America/New_York:20240824T160000
DTSTAMP:20260423T125708
CREATED:20240319T162617Z
LAST-MODIFIED:20240319T162621Z
UID:217-1724511600-1724515200@lockportcommunityband.com
SUMMARY:Newfane Bicentennial Parade
DESCRIPTION:
URL:https://lockportcommunityband.com/event/newfane-bicentennial-parade/
LOCATION:Newfane\, NY (Route TBA)
END:VEVENT
BEGIN:VEVENT
DTSTART;TZID=America/New_York:20240812T183000
DTEND;TZID=America/New_York:20240812T193000
DTSTAMP:20260423T125708
CREATED:20240319T162758Z
LAST-MODIFIED:20240319T162802Z
UID:221-1723487400-1723491000@lockportcommunityband.com
SUMMARY:Cruise Night
DESCRIPTION:
URL:https://lockportcommunityband.com/event/cruise-night-2/
LOCATION:Ida Fritz Park\, 105 West Ave\, Lockport\, New York\, 14094
END:VEVENT
BEGIN:VEVENT
DTSTART;TZID=America/New_York:20240803T130000
DTEND;TZID=America/New_York:20240803T140000
DTSTAMP:20260423T125708
CREATED:20240319T162501Z
LAST-MODIFIED:20240726T202458Z
UID:215-1722690000-1722693600@lockportcommunityband.com
SUMMARY:Niagara County Fair
DESCRIPTION:
URL:https://lockportcommunityband.com/event/niagara-county-fair-3/
LOCATION:Niagara County Fairgrounds\, 4487 Lake Avenue\, Lockport\, New York\, 14094
END:VEVENT
BEGIN:VEVENT
DTSTART;TZID=America/New_York:20240726T190000
DTEND;TZID=America/New_York:20240726T200000
DTSTAMP:20260423T125708
CREATED:20240319T162350Z
LAST-MODIFIED:20240319T162354Z
UID:213-1722020400-1722024000@lockportcommunityband.com
SUMMARY:Movie Night (Christmas in July)
DESCRIPTION:
URL:https://lockportcommunityband.com/event/movie-night-christmas-in-july-2/
LOCATION:Day Road Park\, 5098 Day Road\, Lockport\, New York\, 14094
END:VEVENT
BEGIN:VEVENT
DTSTART;TZID=America/New_York:20240703T180000
DTEND;TZID=America/New_York:20240703T190000
DTSTAMP:20260423T125708
CREATED:20240328T194602Z
LAST-MODIFIED:20240328T194607Z
UID:224-1720029600-1720033200@lockportcommunityband.com
SUMMARY:Independence Day Parade
DESCRIPTION:
URL:https://lockportcommunityband.com/event/independence-day-parade-3/
LOCATION:Lockport High School\, 250 Lincoln Ave\, Lockport\, New York\, 14094
END:VEVENT
BEGIN:VEVENT
DTSTART;TZID=America/New_York:20240621T190000
DTEND;TZID=America/New_York:20240621T200000
DTSTAMP:20260423T125708
CREATED:20240319T161923Z
LAST-MODIFIED:20240319T161929Z
UID:211-1718996400-1719000000@lockportcommunityband.com
SUMMARY:Movie Night
DESCRIPTION:
URL:https://lockportcommunityband.com/event/movie-night-3/
LOCATION:Day Road Park\, 5098 Day Road\, Lockport\, New York\, 14094
END:VEVENT
BEGIN:VEVENT
DTSTART;TZID=America/New_York:20240615T110000
DTEND;TZID=America/New_York:20240615T120000
DTSTAMP:20260423T125708
CREATED:20240319T161817Z
LAST-MODIFIED:20240319T161821Z
UID:209-1718449200-1718452800@lockportcommunityband.com
SUMMARY:Flag Day
DESCRIPTION:
URL:https://lockportcommunityband.com/event/flag-day-3/
LOCATION:Lockport Elk’s Lodge\, 6781 N. Canal Road\, Lockport\, 14094
END:VEVENT
BEGIN:VEVENT
DTSTART;TZID=America/New_York:20240526T130000
DTEND;TZID=America/New_York:20240526T140000
DTSTAMP:20260423T125708
CREATED:20240319T161651Z
LAST-MODIFIED:20240514T233016Z
UID:207-1716728400-1716732000@lockportcommunityband.com
SUMMARY:Memorial Day Parade
DESCRIPTION:Concert to follow parade on Canal Street.
URL:https://lockportcommunityband.com/event/memorial-day-parade/
LOCATION:Veteran’s Park\, 400 East Ave\, Lockport\, New York\, 14094\, United States
END:VEVENT
BEGIN:VEVENT
DTSTART;TZID=America/New_York:20231221T183000
DTEND;TZID=America/New_York:20231221T203000
DTSTAMP:20260423T125708
CREATED:20231113T152307Z
LAST-MODIFIED:20231113T152313Z
UID:200-1703183400-1703190600@lockportcommunityband.com
SUMMARY:Annual Christmas Concert & Sing Along
DESCRIPTION:
URL:https://lockportcommunityband.com/event/annual-christmas-concert-sing-along-2/
LOCATION:Lockport High School\, 250 Lincoln Ave\, Lockport\, New York\, 14094
END:VEVENT
BEGIN:VEVENT
DTSTART;TZID=America/New_York:20231203T150000
DTEND;TZID=America/New_York:20231203T160000
DTSTAMP:20260423T125708
CREATED:20231113T152444Z
LAST-MODIFIED:20231113T152450Z
UID:202-1701615600-1701619200@lockportcommunityband.com
SUMMARY:Holiday Concert
DESCRIPTION:
URL:https://lockportcommunityband.com/event/holiday-concert/
LOCATION:Trinity United Methodist Church\, 711 Niagara Falls Blvd\, Amherst\, New York\, 14226
END:VEVENT
BEGIN:VEVENT
DTSTART;TZID=America/New_York:20231103T190000
DTEND;TZID=America/New_York:20231103T200000
DTSTAMP:20260423T125708
CREATED:20231003T123952Z
LAST-MODIFIED:20231003T123958Z
UID:194-1699038000-1699041600@lockportcommunityband.com
SUMMARY:Fall Concert
DESCRIPTION:
URL:https://lockportcommunityband.com/event/fall-concert/
LOCATION:St. John’s Church\, 168 Chestnut St\, Lockport\, New York
END:VEVENT
BEGIN:VEVENT
DTSTART;TZID=America/New_York:20230828T173000
DTEND;TZID=America/New_York:20230828T183000
DTSTAMP:20260423T125708
CREATED:20230810T133542Z
LAST-MODIFIED:20230810T133547Z
UID:191-1693243800-1693247400@lockportcommunityband.com
SUMMARY:Lockport Cruise Night
DESCRIPTION:
URL:https://lockportcommunityband.com/event/lockport-cruise-night-2/
LOCATION:Ida Fritz Park\, 105 West Ave\, Lockport\, New York\, 14094
END:VEVENT
BEGIN:VEVENT
DTSTART;TZID=America/New_York:20230805T130000
DTEND;TZID=America/New_York:20230805T140000
DTSTAMP:20260423T125708
CREATED:20230209T143526Z
LAST-MODIFIED:20230209T143535Z
UID:177-1691240400-1691244000@lockportcommunityband.com
SUMMARY:Niagara County Fair
DESCRIPTION:Performing at the Midway Stage
URL:https://lockportcommunityband.com/event/niagara-county-fair-2/
LOCATION:Niagara County Fairgrounds\, 4487 Lake Avenue\, Lockport\, New York\, 14094
END:VEVENT
BEGIN:VEVENT
DTSTART;TZID=America/New_York:20230728T190000
DTEND;TZID=America/New_York:20230728T200000
DTSTAMP:20260423T125708
CREATED:20230410T134728Z
LAST-MODIFIED:20230410T134738Z
UID:185-1690570800-1690574400@lockportcommunityband.com
SUMMARY:Movie Night (Christmas in July)
DESCRIPTION:
URL:https://lockportcommunityband.com/event/movie-night-christmas-in-july/
LOCATION:Day Road Park\, 5098 Day Road\, Lockport\, New York\, 14094
END:VEVENT
BEGIN:VEVENT
DTSTART;TZID=America/New_York:20230722T120000
DTEND;TZID=America/New_York:20230722T130000
DTSTAMP:20260423T125708
CREATED:20230209T143333Z
LAST-MODIFIED:20230209T143342Z
UID:173-1690027200-1690030800@lockportcommunityband.com
SUMMARY:Somerset Bicentennial Parade
DESCRIPTION:More details to follow.
URL:https://lockportcommunityband.com/event/somerset-bicentennial-parade/
LOCATION:Barker\, NY
END:VEVENT
BEGIN:VEVENT
DTSTART;TZID=America/New_York:20230703T180000
DTEND;TZID=America/New_York:20230703T190000
DTSTAMP:20260423T125708
CREATED:20230614T145545Z
LAST-MODIFIED:20230614T145552Z
UID:188-1688407200-1688410800@lockportcommunityband.com
SUMMARY:Independence Day Parade
DESCRIPTION:
URL:https://lockportcommunityband.com/event/independence-day-parade-2/
LOCATION:Veteran’s Park\, 400 East Ave\, Lockport\, New York\, 14094\, United States
END:VEVENT
BEGIN:VEVENT
DTSTART;TZID=America/New_York:20230623T190000
DTEND;TZID=America/New_York:20230623T200000
DTSTAMP:20260423T125708
CREATED:20230410T134613Z
LAST-MODIFIED:20230410T134616Z
UID:183-1687546800-1687550400@lockportcommunityband.com
SUMMARY:Movie Night
DESCRIPTION:
URL:https://lockportcommunityband.com/event/movie-night/
LOCATION:Day Road Park\, 5098 Day Road\, Lockport\, New York\, 14094
END:VEVENT
BEGIN:VEVENT
DTSTART;TZID=America/New_York:20230612T180000
DTEND;TZID=America/New_York:20230612T190000
DTSTAMP:20260423T125708
CREATED:20230209T143141Z
LAST-MODIFIED:20230209T143150Z
UID:171-1686592800-1686596400@lockportcommunityband.com
SUMMARY:Lockport Cruise Night
DESCRIPTION:
URL:https://lockportcommunityband.com/event/lockport-cruise-night/
LOCATION:Ida Fritz Park\, 105 West Ave\, Lockport\, New York\, 14094
END:VEVENT
BEGIN:VEVENT
DTSTART;TZID=America/New_York:20230610T110000
DTEND;TZID=America/New_York:20230610T120000
DTSTAMP:20260423T125708
CREATED:20230410T134505Z
LAST-MODIFIED:20230410T134510Z
UID:181-1686394800-1686398400@lockportcommunityband.com
SUMMARY:Flag Day
DESCRIPTION:
URL:https://lockportcommunityband.com/event/flag-day-2/
LOCATION:Lockport Elk’s Lodge\, 6781 N. Canal Road\, Lockport\, 14094
END:VEVENT
BEGIN:VEVENT
DTSTART;TZID=America/New_York:20221216T190000
DTEND;TZID=America/New_York:20221216T210000
DTSTAMP:20260423T125708
CREATED:20221120T214537Z
LAST-MODIFIED:20221123T182753Z
UID:163-1671217200-1671224400@lockportcommunityband.com
SUMMARY:Annual Christmas Concert & Sing Along
DESCRIPTION:A combined holiday concert with Barker Band & Sanborn Fire Company Band. Tickets $5. Available at the door or from band members.
URL:https://lockportcommunityband.com/event/annual-christmas-concert-sing-along/
LOCATION:Lockport High School\, 250 Lincoln Ave\, Lockport\, New York\, 14094
END:VEVENT
BEGIN:VEVENT
DTSTART;TZID=America/New_York:20221204T140000
DTEND;TZID=America/New_York:20221204T150000
DTSTAMP:20260423T125708
CREATED:20221012T121850Z
LAST-MODIFIED:20221012T121854Z
UID:159-1670162400-1670166000@lockportcommunityband.com
SUMMARY:Gingerbread House Concert
DESCRIPTION:
URL:https://lockportcommunityband.com/event/gingerbread-house-concert/
LOCATION:Niagara Falls Culinary Institute\, 28 Old Falls Street\, Niagara Falls\, New York\, 14303
END:VEVENT
BEGIN:VEVENT
DTSTART;TZID=America/New_York:20220828T103000
DTEND;TZID=America/New_York:20220828T120000
DTSTAMP:20260423T125708
CREATED:20220614T192530Z
LAST-MODIFIED:20220727T154225Z
UID:119-1661682600-1661688000@lockportcommunityband.com
SUMMARY:Pendleton Town Market
DESCRIPTION:
URL:https://lockportcommunityband.com/event/pendleton-town-market/
LOCATION:Pendleton Center\, 6596 Campbell Blvd\, Lockport\, New York\, 14094
END:VEVENT
BEGIN:VEVENT
DTSTART;TZID=America/New_York:20220820T140000
DTEND;TZID=America/New_York:20220820T150000
DTSTAMP:20260423T125708
CREATED:20220715T180445Z
LAST-MODIFIED:20220715T180640Z
UID:153-1661004000-1661007600@lockportcommunityband.com
SUMMARY:Pendleton Field Days
DESCRIPTION:
URL:https://lockportcommunityband.com/event/pendleton-field-days/
LOCATION:Pendleton Center\, 6596 Campbell Blvd\, Lockport\, New York\, 14094
END:VEVENT
END:VCALENDAR