BEGIN:VCALENDAR
VERSION:2.0
PRODID:-//Lockport Community Band - ECPv6.15.20//NONSGML v1.0//EN
CALSCALE:GREGORIAN
METHOD:PUBLISH
X-WR-CALNAME:Lockport Community Band
X-ORIGINAL-URL:https://lockportcommunityband.com
X-WR-CALDESC:Events for Lockport Community Band
REFRESH-INTERVAL;VALUE=DURATION:PT1H
X-Robots-Tag:noindex
X-PUBLISHED-TTL:PT1H
BEGIN:VTIMEZONE
TZID:America/New_York
BEGIN:DAYLIGHT
TZOFFSETFROM:-0500
TZOFFSETTO:-0400
TZNAME:EDT
DTSTART:20210314T070000
END:DAYLIGHT
BEGIN:STANDARD
TZOFFSETFROM:-0400
TZOFFSETTO:-0500
TZNAME:EST
DTSTART:20211107T060000
END:STANDARD
BEGIN:DAYLIGHT
TZOFFSETFROM:-0500
TZOFFSETTO:-0400
TZNAME:EDT
DTSTART:20220313T070000
END:DAYLIGHT
BEGIN:STANDARD
TZOFFSETFROM:-0400
TZOFFSETTO:-0500
TZNAME:EST
DTSTART:20221106T060000
END:STANDARD
BEGIN:DAYLIGHT
TZOFFSETFROM:-0500
TZOFFSETTO:-0400
TZNAME:EDT
DTSTART:20230312T070000
END:DAYLIGHT
BEGIN:STANDARD
TZOFFSETFROM:-0400
TZOFFSETTO:-0500
TZNAME:EST
DTSTART:20231105T060000
END:STANDARD
END:VTIMEZONE
BEGIN:VEVENT
DTSTART;TZID=America/New_York:20220530T110000
DTEND;TZID=America/New_York:20220530T120000
DTSTAMP:20260423T174235
CREATED:20220413T175700Z
LAST-MODIFIED:20220413T175705Z
UID:100-1653908400-1653912000@lockportcommunityband.com
SUMMARY:Memorial Day Concert
DESCRIPTION:
URL:https://lockportcommunityband.com/event/memorial-day-concert/
LOCATION:Day Road Park\, 5098 Day Road\, Lockport\, New York\, 14094
END:VEVENT
BEGIN:VEVENT
DTSTART;TZID=America/New_York:20220516T180000
DTEND;TZID=America/New_York:20220516T190000
DTSTAMP:20260423T174235
CREATED:20220322T120902Z
LAST-MODIFIED:20220322T120909Z
UID:95-1652724000-1652727600@lockportcommunityband.com
SUMMARY:Cruise Night
DESCRIPTION:
URL:https://lockportcommunityband.com/event/cruise-night/
LOCATION:Ida Fritz Park\, 105 West Ave\, Lockport\, New York\, 14094
END:VEVENT
END:VCALENDAR